BEGIN:VCALENDAR
VERSION:2.0
PRODID:-//Hanley Castle Parish Council//Meeting Calendar//EN
CALSCALE:GREGORIAN
METHOD:PUBLISH
BEGIN:VEVENT
UID:70689-20260716@hanleycastleparish.gov.uk
DTSTAMP:20260419T130716Z
DTSTART;VALUE=DATE:20260716
DTEND;VALUE=DATE:20260717
SUMMARY:16th July 2026
DESCRIPTION:Full Council Meeting\nView details: https://hanleycastleparish.gov.uk/meetings/parish-council-16th-june/
URL:https://hanleycastleparish.gov.uk/meetings/parish-council-16th-june/
END:VEVENT
END:VCALENDAR
