BEGIN:VCALENDAR
VERSION:2.0
PRODID:-//Hanley Castle Parish Council//Meeting Calendar//EN
CALSCALE:GREGORIAN
METHOD:PUBLISH
BEGIN:VEVENT
UID:70508-2025-09-18@hanleycastleparish.gov.uk
DTSTAMP:20260419T144815Z
DTSTART;VALUE=DATE:2025-09-18
DTEND;VALUE=DATE:20250919
SUMMARY:Full Council — 18 September 2025
DESCRIPTION:Council Meeting\nView details: https://hanleycastleparish.gov.uk/meetings/full-council-18-september-2025/
URL:https://hanleycastleparish.gov.uk/meetings/full-council-18-september-2025/
END:VEVENT
END:VCALENDAR
