BEGIN:VCALENDAR
VERSION:2.0
PRODID:-//Hanley Castle Parish Council//Meeting Calendar//EN
CALSCALE:GREGORIAN
METHOD:PUBLISH
BEGIN:VEVENT
UID:70506-2025-06-19@hanleycastleparish.gov.uk
DTSTAMP:20260419T160827Z
DTSTART;VALUE=DATE:2025-06-19
DTEND;VALUE=DATE:20250620
SUMMARY:Full Council — 19 June 2025
DESCRIPTION:Council Meeting\nView details: https://hanleycastleparish.gov.uk/meetings/full-council-19-june-2025/
URL:https://hanleycastleparish.gov.uk/meetings/full-council-19-june-2025/
END:VEVENT
END:VCALENDAR
