BEGIN:VCALENDAR
VERSION:2.0
PRODID:-//Hanley Castle Parish Council//Meeting Calendar//EN
CALSCALE:GREGORIAN
METHOD:PUBLISH
BEGIN:VEVENT
UID:70504-2025-05-15@hanleycastleparish.gov.uk
DTSTAMP:20260419T161803Z
DTSTART;VALUE=DATE:2025-05-15
DTEND;VALUE=DATE:20250516
SUMMARY:Annual Meeting of the Parish Council — 15 May 2025
DESCRIPTION:Council Meeting\nView details: https://hanleycastleparish.gov.uk/meetings/annual-meeting-of-the-parish-council-15-may-2025/
URL:https://hanleycastleparish.gov.uk/meetings/annual-meeting-of-the-parish-council-15-may-2025/
END:VEVENT
END:VCALENDAR
