BEGIN:VCALENDAR
VERSION:2.0
PRODID:-//Hanley Castle Parish Council//Meeting Calendar//EN
CALSCALE:GREGORIAN
METHOD:PUBLISH
BEGIN:VEVENT
UID:70503-2025-04-24@hanleycastleparish.gov.uk
DTSTAMP:20260419T161803Z
DTSTART;VALUE=DATE:2025-04-24
DTEND;VALUE=DATE:20250425
SUMMARY:Full Council — 24 April 2025
DESCRIPTION:Council Meeting\nView details: https://hanleycastleparish.gov.uk/meetings/full-council-24-april-2025/
URL:https://hanleycastleparish.gov.uk/meetings/full-council-24-april-2025/
END:VEVENT
END:VCALENDAR
