BEGIN:VCALENDAR
VERSION:2.0
PRODID:-//Hanley Castle Parish Council//Meeting Calendar//EN
CALSCALE:GREGORIAN
METHOD:PUBLISH
BEGIN:VEVENT
UID:70502-2025-03-20@hanleycastleparish.gov.uk
DTSTAMP:20260419T144207Z
DTSTART;VALUE=DATE:2025-03-20
DTEND;VALUE=DATE:20250321
SUMMARY:Full Council — 20 March 2025
DESCRIPTION:Council Meeting\nView details: https://hanleycastleparish.gov.uk/meetings/full-council-20-march-2025/
URL:https://hanleycastleparish.gov.uk/meetings/full-council-20-march-2025/
END:VEVENT
END:VCALENDAR
